BEGIN:VCALENDAR
METHOD:PUBLISH
VERSION:2.0
CALSCALE:GREGORIAN
PRODID:-//NONSGML WPForms//NONSGML Sugar Calendar Feeds v3.10.0//EN
X-WR-CALNAME:1. jóladagur
X-WR-CALDESC:
X-WR-TIMEZONE:Europe/London
BEGIN:VTIMEZONE
TZID:Europe/London
BEGIN:STANDARD
TZOFFSETFROM:+0100
TZOFFSETTO:+0000
DTSTART:20251026T010000
TZNAME:GMT
END:STANDARD
END:VTIMEZONE
BEGIN:VTIMEZONE
TZID:Europe/London
BEGIN:STANDARD
TZOFFSETFROM:+0100
TZOFFSETTO:+0000
DTSTART:20251026T010000
TZNAME:GMT
END:STANDARD
END:VTIMEZONE
BEGIN:VEVENT
SUMMARY:1. jóladagur
DESCRIPTION:
URL;VALUE=URI:https://tabor.fo/events/1-joladagur/
UID:urn:uuid:76cbcc4c-013a-40d1-b552-7dcfc9f02663
STATUS:CONFIRMED
ORGANIZER:
DTSTAMP:20260420T004342Z
DTSTART;VALUE=DATE:20251225
END:VEVENT
END:VCALENDAR