BEGIN:VCALENDAR
METHOD:PUBLISH
VERSION:2.0
CALSCALE:GREGORIAN
PRODID:-//NONSGML WPForms//NONSGML Sugar Calendar Feeds v3.10.0//EN
X-WR-CALNAME:Bíbliutími v/ Hans Jákup Hansen
X-WR-CALDESC:
X-WR-TIMEZONE:Europe/London
BEGIN:VTIMEZONE
TZID:Europe/London
BEGIN:STANDARD
TZOFFSETFROM:+0100
TZOFFSETTO:+0000
DTSTART:20251026T010000
TZNAME:GMT
END:STANDARD
END:VTIMEZONE
BEGIN:VTIMEZONE
TZID:Europe/London
BEGIN:STANDARD
TZOFFSETFROM:+0100
TZOFFSETTO:+0000
DTSTART:20251026T010000
TZNAME:GMT
END:STANDARD
END:VTIMEZONE
BEGIN:VEVENT
SUMMARY:Bíbliutími v/ Hans Jákup Hansen
DESCRIPTION:
URL;VALUE=URI:https://tabor.fo/events/bibliutimi-2-2/
UID:urn:uuid:0e096e1e-f344-4ffc-852f-143cd84515dc
STATUS:CONFIRMED
ORGANIZER:
DTSTAMP:20260421T041406Z
DTSTART;TZID=Europe/London:20260114T193000
DTEND;TZID=Europe/London:20260114T203000
END:VEVENT
END:VCALENDAR