BEGIN:VCALENDAR
METHOD:PUBLISH
VERSION:2.0
CALSCALE:GREGORIAN
PRODID:-//NONSGML WPForms//NONSGML Sugar Calendar Feeds v3.10.0//EN
X-WR-CALNAME:Bíbliutími v/ Torleif Johannessen
X-WR-CALDESC:
X-WR-TIMEZONE:Europe/London
BEGIN:VTIMEZONE
TZID:Europe/London
BEGIN:STANDARD
TZOFFSETFROM:+0100
TZOFFSETTO:+0000
DTSTART:20251026T010000
TZNAME:GMT
END:STANDARD
END:VTIMEZONE
BEGIN:VTIMEZONE
TZID:Europe/London
BEGIN:STANDARD
TZOFFSETFROM:+0100
TZOFFSETTO:+0000
DTSTART:20251026T010000
TZNAME:GMT
END:STANDARD
END:VTIMEZONE
BEGIN:VEVENT
SUMMARY:Bíbliutími v/ Torleif Johannessen
DESCRIPTION:
URL;VALUE=URI:https://tabor.fo/events/bibliutimi-2-3/
UID:urn:uuid:c8aa213c-e32b-4e63-ad39-e5a825f880a7
STATUS:CONFIRMED
ORGANIZER:
DTSTAMP:20260421T040505Z
DTSTART;TZID=Europe/London:20260121T193000
DTEND;TZID=Europe/London:20260121T210000
END:VEVENT
END:VCALENDAR