BEGIN:VCALENDAR
METHOD:PUBLISH
VERSION:2.0
CALSCALE:GREGORIAN
PRODID:-//NONSGML WPForms//NONSGML Sugar Calendar Feeds v3.10.0//EN
X-WR-CALNAME:Bíbliutími v/ Sólrun Poulsen
X-WR-CALDESC:
X-WR-TIMEZONE:Europe/London
BEGIN:VTIMEZONE
TZID:Europe/London
BEGIN:STANDARD
TZOFFSETFROM:+0100
TZOFFSETTO:+0000
DTSTART:20251026T010000
TZNAME:GMT
END:STANDARD
END:VTIMEZONE
BEGIN:VTIMEZONE
TZID:Europe/London
BEGIN:STANDARD
TZOFFSETFROM:+0100
TZOFFSETTO:+0000
DTSTART:20251026T010000
TZNAME:GMT
END:STANDARD
END:VTIMEZONE
BEGIN:VEVENT
SUMMARY:Bíbliutími v/ Sólrun Poulsen
DESCRIPTION:
URL;VALUE=URI:https://tabor.fo/events/bibliutimi-2/
UID:urn:uuid:45c1536f-01f9-41af-a55d-2d0428f79724
STATUS:CONFIRMED
ORGANIZER:
DTSTAMP:20260421T035714Z
DTSTART;TZID=Europe/London:20260107T193000
DTEND;TZID=Europe/London:20260107T203000
END:VEVENT
END:VCALENDAR