BEGIN:VCALENDAR
METHOD:PUBLISH
VERSION:2.0
CALSCALE:GREGORIAN
PRODID:-//NONSGML WPForms//NONSGML Sugar Calendar Feeds v3.10.0//EN
X-WR-CALNAME:Bønarløta/bíbliutími
X-WR-CALDESC:
X-WR-TIMEZONE:Europe/London
BEGIN:VTIMEZONE
TZID:Europe/London
BEGIN:STANDARD
TZOFFSETFROM:+0100
TZOFFSETTO:+0000
DTSTART:20251026T010000
TZNAME:GMT
END:STANDARD
END:VTIMEZONE
BEGIN:VTIMEZONE
TZID:Europe/London
BEGIN:STANDARD
TZOFFSETFROM:+0100
TZOFFSETTO:+0000
DTSTART:20251026T010000
TZNAME:GMT
END:STANDARD
END:VTIMEZONE
BEGIN:VEVENT
SUMMARY:Bønarløta/bíbliutími
DESCRIPTION:
URL;VALUE=URI:https://tabor.fo/events/bonarlota-bibliutimi-9-10/
UID:urn:uuid:2a381e22-6ca7-46d5-bcfb-7b9c74ee2fc9
STATUS:CONFIRMED
ORGANIZER:
DTSTAMP:20260421T121859Z
DTSTART;TZID=Europe/London:20251105T193000
DTEND;TZID=Europe/London:20251105T210000
END:VEVENT
END:VCALENDAR