BEGIN:VCALENDAR
METHOD:PUBLISH
VERSION:2.0
CALSCALE:GREGORIAN
PRODID:-//NONSGML WPForms//NONSGML Sugar Calendar Feeds v3.10.0//EN
X-WR-CALNAME:Bønarløta/bíbliutími
X-WR-CALDESC:
X-WR-TIMEZONE:Europe/London
BEGIN:VTIMEZONE
TZID:Europe/London
BEGIN:STANDARD
TZOFFSETFROM:+0100
TZOFFSETTO:+0000
DTSTART:20251026T010000
TZNAME:GMT
END:STANDARD
END:VTIMEZONE
BEGIN:VTIMEZONE
TZID:Europe/London
BEGIN:STANDARD
TZOFFSETFROM:+0100
TZOFFSETTO:+0000
DTSTART:20251026T010000
TZNAME:GMT
END:STANDARD
END:VTIMEZONE
BEGIN:VEVENT
SUMMARY:Bønarløta/bíbliutími
DESCRIPTION:
URL;VALUE=URI:https://tabor.fo/events/bonarlota-bibliutimi-9-11/
UID:urn:uuid:add4b5e3-9e07-4078-857d-f1456ec43656
STATUS:CONFIRMED
ORGANIZER:
DTSTAMP:20260421T102414Z
DTSTART;TZID=Europe/London:20251112T193000
DTEND;TZID=Europe/London:20251112T210000
END:VEVENT
END:VCALENDAR