BEGIN:VCALENDAR
METHOD:PUBLISH
VERSION:2.0
CALSCALE:GREGORIAN
PRODID:-//NONSGML WPForms//NONSGML Sugar Calendar Feeds v3.10.0//EN
X-WR-CALNAME:Bønarløta/bíbliutími
X-WR-CALDESC:
X-WR-TIMEZONE:Europe/London
BEGIN:VTIMEZONE
TZID:Europe/London
BEGIN:DAYLIGHT
TZOFFSETFROM:+0100
TZOFFSETTO:+0100
DTSTART:20250409T073000
TZNAME:BST
END:DAYLIGHT
END:VTIMEZONE
BEGIN:VTIMEZONE
TZID:Europe/London
BEGIN:DAYLIGHT
TZOFFSETFROM:+0100
TZOFFSETTO:+0100
DTSTART:20250409T073000
TZNAME:BST
END:DAYLIGHT
END:VTIMEZONE
BEGIN:VEVENT
SUMMARY:Bønarløta/bíbliutími
DESCRIPTION:við Beinir Langgaard
URL;VALUE=URI:https://tabor.fo/events/bonarlota-bibliutimi-9-6/
UID:urn:uuid:618a1847-8d31-4db7-ab60-13f8a8f73b98
STATUS:CONFIRMED
ORGANIZER:
DTSTAMP:20260422T095757Z
DTSTART;TZID=Europe/London:20251008T193000
DTEND;TZID=Europe/London:20251008T210000
END:VEVENT
END:VCALENDAR