BEGIN:VCALENDAR
METHOD:PUBLISH
VERSION:2.0
CALSCALE:GREGORIAN
PRODID:-//NONSGML WPForms//NONSGML Sugar Calendar Feeds v3.10.0//EN
X-WR-CALNAME:Bønarløta/bíbliutími
X-WR-CALDESC:
X-WR-TIMEZONE:Europe/London
BEGIN:VTIMEZONE
TZID:Europe/London
BEGIN:DAYLIGHT
TZOFFSETFROM:+0100
TZOFFSETTO:+0100
DTSTART:20250423T073000
TZNAME:BST
END:DAYLIGHT
END:VTIMEZONE
BEGIN:VTIMEZONE
TZID:Europe/London
BEGIN:DAYLIGHT
TZOFFSETFROM:+0100
TZOFFSETTO:+0100
DTSTART:20250423T073000
TZNAME:BST
END:DAYLIGHT
END:VTIMEZONE
BEGIN:VEVENT
SUMMARY:Bønarløta/bíbliutími
DESCRIPTION:við Ólavur Ø. Hansen
URL;VALUE=URI:https://tabor.fo/events/bonarlota-bibliutimi-9-8/
UID:urn:uuid:65042e11-0247-4210-ba2e-538cb3578d65
STATUS:CONFIRMED
ORGANIZER:
DTSTAMP:20260422T070442Z
DTSTART;TZID=Europe/London:20251022T193000
DTEND;TZID=Europe/London:20251022T210000
END:VEVENT
END:VCALENDAR