BEGIN:VCALENDAR
METHOD:PUBLISH
VERSION:2.0
CALSCALE:GREGORIAN
PRODID:-//NONSGML WPForms//NONSGML Sugar Calendar Feeds v3.10.0//EN
X-WR-CALNAME:Dýri biðidagur
X-WR-CALDESC:
X-WR-TIMEZONE:Europe/London
BEGIN:VTIMEZONE
TZID:Europe/London
BEGIN:DAYLIGHT
TZOFFSETFROM:+0000
TZOFFSETTO:+0100
DTSTART:20260329T010000
TZNAME:BST
END:DAYLIGHT
END:VTIMEZONE
BEGIN:VTIMEZONE
TZID:Europe/London
BEGIN:DAYLIGHT
TZOFFSETFROM:+0000
TZOFFSETTO:+0100
DTSTART:20260329T010000
TZNAME:BST
END:DAYLIGHT
END:VTIMEZONE
BEGIN:VEVENT
SUMMARY:Dýri biðidagur
DESCRIPTION:
URL;VALUE=URI:https://tabor.fo/events/dyri-bididagur/
UID:urn:uuid:7f753134-7c67-419e-bc29-61c4e563e146
STATUS:CONFIRMED
ORGANIZER:
DTSTAMP:20260421T101926Z
DTSTART;VALUE=DATE:20260501
END:VEVENT
END:VCALENDAR