BEGIN:VCALENDAR
METHOD:PUBLISH
VERSION:2.0
CALSCALE:GREGORIAN
PRODID:-//NONSGML WPForms//NONSGML Sugar Calendar Feeds v3.10.0//EN
X-WR-CALNAME:Frokost
X-WR-CALDESC:
X-WR-TIMEZONE:Europe/London
BEGIN:VTIMEZONE
TZID:Europe/London
BEGIN:DAYLIGHT
TZOFFSETFROM:+0000
TZOFFSETTO:+0100
DTSTART:20250330T010000
TZNAME:BST
END:DAYLIGHT
END:VTIMEZONE
BEGIN:VTIMEZONE
TZID:Europe/London
BEGIN:DAYLIGHT
TZOFFSETFROM:+0000
TZOFFSETTO:+0100
DTSTART:20250330T010000
TZNAME:BST
END:DAYLIGHT
END:VTIMEZONE
BEGIN:VEVENT
SUMMARY:Frokost
DESCRIPTION:
URL;VALUE=URI:https://tabor.fo/events/frokost-4/
UID:urn:uuid:f50a8197-a466-49be-add4-865f29fe1959
STATUS:CONFIRMED
ORGANIZER:
DTSTAMP:20260421T121610Z
DTSTART;TZID=Europe/London:20250601T123000
DTEND;TZID=Europe/London:20250601T140000
END:VEVENT
END:VCALENDAR