BEGIN:VCALENDAR
METHOD:PUBLISH
VERSION:2.0
CALSCALE:GREGORIAN
PRODID:-//NONSGML WPForms//NONSGML Sugar Calendar Feeds v3.10.0//EN
X-WR-CALNAME:Jólaaftan
X-WR-CALDESC:
X-WR-TIMEZONE:Europe/London
BEGIN:VTIMEZONE
TZID:Europe/London
BEGIN:STANDARD
TZOFFSETFROM:+0100
TZOFFSETTO:+0000
DTSTART:20251026T010000
TZNAME:GMT
END:STANDARD
END:VTIMEZONE
BEGIN:VTIMEZONE
TZID:Europe/London
BEGIN:STANDARD
TZOFFSETFROM:+0100
TZOFFSETTO:+0000
DTSTART:20251026T010000
TZNAME:GMT
END:STANDARD
END:VTIMEZONE
BEGIN:VEVENT
SUMMARY:Jólaaftan
DESCRIPTION:
URL;VALUE=URI:https://tabor.fo/events/jolaaftan/
UID:urn:uuid:03c758df-1ffd-436a-81dd-f278763a6346
STATUS:CONFIRMED
ORGANIZER:
DTSTAMP:20260420T025357Z
DTSTART;VALUE=DATE:20251224
END:VEVENT
END:VCALENDAR