BEGIN:VCALENDAR
METHOD:PUBLISH
VERSION:2.0
CALSCALE:GREGORIAN
PRODID:-//NONSGML WPForms//NONSGML Sugar Calendar Feeds v3.10.0//EN
X-WR-CALNAME:Junior v/ Petur Hans Hansen
X-WR-CALDESC:
X-WR-TIMEZONE:Europe/London
BEGIN:VTIMEZONE
TZID:Europe/London
BEGIN:DAYLIGHT
TZOFFSETFROM:+0000
TZOFFSETTO:+0100
DTSTART:20250330T010000
TZNAME:BST
END:DAYLIGHT
END:VTIMEZONE
BEGIN:VTIMEZONE
TZID:Europe/London
BEGIN:DAYLIGHT
TZOFFSETFROM:+0000
TZOFFSETTO:+0100
DTSTART:20250330T010000
TZNAME:BST
END:DAYLIGHT
END:VTIMEZONE
BEGIN:VEVENT
SUMMARY:Junior v/ Petur Hans Hansen
DESCRIPTION:
URL;VALUE=URI:https://tabor.fo/events/junior-14-2/
UID:urn:uuid:e2bd0828-ccdb-49e1-a8ff-cf541e515fbc
STATUS:CONFIRMED
ORGANIZER:
DTSTAMP:20260419T171327Z
DTSTART;TZID=Europe/London:20250922T190000
DTEND;TZID=Europe/London:20250922T210000
END:VEVENT
END:VCALENDAR