BEGIN:VCALENDAR
METHOD:PUBLISH
VERSION:2.0
CALSCALE:GREGORIAN
PRODID:-//NONSGML WPForms//NONSGML Sugar Calendar Feeds v3.10.0//EN
X-WR-CALNAME:Junior v/ Bjarka Johannessen
X-WR-CALDESC:
X-WR-TIMEZONE:Europe/London
BEGIN:VTIMEZONE
TZID:Europe/London
BEGIN:DAYLIGHT
TZOFFSETFROM:+0100
TZOFFSETTO:+0100
DTSTART:20250421T070000
TZNAME:BST
END:DAYLIGHT
END:VTIMEZONE
BEGIN:VTIMEZONE
TZID:Europe/London
BEGIN:DAYLIGHT
TZOFFSETFROM:+0100
TZOFFSETTO:+0100
DTSTART:20250421T070000
TZNAME:BST
END:DAYLIGHT
END:VTIMEZONE
BEGIN:VEVENT
SUMMARY:Junior v/ Bjarka Johannessen
DESCRIPTION:
URL;VALUE=URI:https://tabor.fo/events/junior-14-3/
UID:urn:uuid:e7f268a7-0dce-4d78-aba5-41b194c498fa
STATUS:CONFIRMED
ORGANIZER:
DTSTAMP:20260419T152241Z
DTSTART;TZID=Europe/London:20251020T190000
DTEND;TZID=Europe/London:20251020T210000
END:VEVENT
END:VCALENDAR