BEGIN:VCALENDAR
METHOD:PUBLISH
VERSION:2.0
CALSCALE:GREGORIAN
PRODID:-//NONSGML WPForms//NONSGML Sugar Calendar Feeds v3.10.0//EN
X-WR-CALNAME:Junior v/ Jónhild Djurhuus
X-WR-CALDESC:
X-WR-TIMEZONE:Europe/London
BEGIN:VTIMEZONE
TZID:Europe/London
BEGIN:STANDARD
TZOFFSETFROM:+0100
TZOFFSETTO:+0000
DTSTART:20251026T010000
TZNAME:GMT
END:STANDARD
END:VTIMEZONE
BEGIN:VTIMEZONE
TZID:Europe/London
BEGIN:STANDARD
TZOFFSETFROM:+0100
TZOFFSETTO:+0000
DTSTART:20251026T010000
TZNAME:GMT
END:STANDARD
END:VTIMEZONE
BEGIN:VEVENT
SUMMARY:Junior v/ Jónhild Djurhuus
DESCRIPTION:
URL;VALUE=URI:https://tabor.fo/events/junior-14-4/
UID:urn:uuid:a9420490-06ef-49c2-98ac-5cc62eb2e2dd
STATUS:CONFIRMED
ORGANIZER:
DTSTAMP:20260419T134226Z
DTSTART;TZID=Europe/London:20251103T190000
DTEND;TZID=Europe/London:20251103T210000
END:VEVENT
END:VCALENDAR