BEGIN:VCALENDAR
METHOD:PUBLISH
VERSION:2.0
CALSCALE:GREGORIAN
PRODID:-//NONSGML WPForms//NONSGML Sugar Calendar Feeds v3.10.0//EN
X-WR-CALNAME:Junior v/ Ova Brim
X-WR-CALDESC:
X-WR-TIMEZONE:Europe/London
BEGIN:VTIMEZONE
TZID:Europe/London
BEGIN:STANDARD
TZOFFSETFROM:+0100
TZOFFSETTO:+0000
DTSTART:20251026T010000
TZNAME:GMT
END:STANDARD
END:VTIMEZONE
BEGIN:VTIMEZONE
TZID:Europe/London
BEGIN:STANDARD
TZOFFSETFROM:+0100
TZOFFSETTO:+0000
DTSTART:20251026T010000
TZNAME:GMT
END:STANDARD
END:VTIMEZONE
BEGIN:VEVENT
SUMMARY:Junior v/ Ova Brim
DESCRIPTION:
URL;VALUE=URI:https://tabor.fo/events/junior-14-5/
UID:urn:uuid:a9f113ba-9e2e-41f1-a719-955bc42c77c9
STATUS:CONFIRMED
ORGANIZER:
DTSTAMP:20260419T121141Z
DTSTART;TZID=Europe/London:20251117T190000
DTEND;TZID=Europe/London:20251117T210000
END:VEVENT
END:VCALENDAR