BEGIN:VCALENDAR
METHOD:PUBLISH
VERSION:2.0
CALSCALE:GREGORIAN
PRODID:-//NONSGML WPForms//NONSGML Sugar Calendar Feeds v3.10.0//EN
X-WR-CALNAME:Junior v/ Heina Kristiansen
X-WR-CALDESC:
X-WR-TIMEZONE:Europe/London
BEGIN:VTIMEZONE
TZID:Europe/London
BEGIN:DAYLIGHT
TZOFFSETFROM:+0000
TZOFFSETTO:+0100
DTSTART:20250330T010000
TZNAME:BST
END:DAYLIGHT
END:VTIMEZONE
BEGIN:VTIMEZONE
TZID:Europe/London
BEGIN:DAYLIGHT
TZOFFSETFROM:+0000
TZOFFSETTO:+0100
DTSTART:20250330T010000
TZNAME:BST
END:DAYLIGHT
END:VTIMEZONE
BEGIN:VEVENT
SUMMARY:Junior v/ Heina Kristiansen
DESCRIPTION:
URL;VALUE=URI:https://tabor.fo/events/junior-14/
UID:urn:uuid:722f754e-6158-4508-a56e-712013306d28
STATUS:CONFIRMED
ORGANIZER:
DTSTAMP:20260419T191125Z
DTSTART;TZID=Europe/London:20250908T190000
DTEND;TZID=Europe/London:20250908T210000
END:VEVENT
END:VCALENDAR