BEGIN:VCALENDAR
METHOD:PUBLISH
VERSION:2.0
CALSCALE:GREGORIAN
PRODID:-//NONSGML WPForms//NONSGML Sugar Calendar Feeds v3.10.0//EN
X-WR-CALNAME:Kvinnukvøld v/Ann Hermansdóttir
X-WR-CALDESC:
X-WR-TIMEZONE:Europe/London
BEGIN:VTIMEZONE
TZID:Europe/London
BEGIN:DAYLIGHT
TZOFFSETFROM:+0100
TZOFFSETTO:+0100
DTSTART:20250408T073000
TZNAME:BST
END:DAYLIGHT
END:VTIMEZONE
BEGIN:VTIMEZONE
TZID:Europe/London
BEGIN:DAYLIGHT
TZOFFSETFROM:+0100
TZOFFSETTO:+0100
DTSTART:20250408T073000
TZNAME:BST
END:DAYLIGHT
END:VTIMEZONE
BEGIN:VEVENT
SUMMARY:Kvinnukvøld v/Ann Hermansdóttir
DESCRIPTION:Kvinnurkvøld\, har Ann Hermandsóttir kemur at tosa um hvat
  Yoga verðuliga er. Eisini fáa vit sang frá Hildigunn Steinhólm og L
 ý Petersen.\n\nAllar kvinnur eru hjartaliga vælkomnar\, og takið endu
 liga stokkarnar við.
URL;VALUE=URI:https://tabor.fo/events/kvinnukvold-v-ann-hermansdottir/
UID:urn:uuid:ec390284-1efc-4333-b443-5b815768cec2
STATUS:CONFIRMED
ORGANIZER:
DTSTAMP:20260422T035915Z
DTSTART;TZID=Europe/London:20251007T193000
DTEND;TZID=Europe/London:20251007T213000
END:VEVENT
END:VCALENDAR