BEGIN:VCALENDAR
METHOD:PUBLISH
VERSION:2.0
CALSCALE:GREGORIAN
PRODID:-//NONSGML WPForms//NONSGML Sugar Calendar Feeds v3.10.0//EN
X-WR-CALNAME:Morguncafé
X-WR-CALDESC:
X-WR-TIMEZONE:Europe/London
BEGIN:VTIMEZONE
TZID:Europe/London
BEGIN:DAYLIGHT
TZOFFSETFROM:+0100
TZOFFSETTO:+0100
DTSTART:20250402T220000
TZNAME:BST
END:DAYLIGHT
END:VTIMEZONE
BEGIN:VTIMEZONE
TZID:Europe/London
BEGIN:DAYLIGHT
TZOFFSETFROM:+0100
TZOFFSETTO:+0100
DTSTART:20250402T220000
TZNAME:BST
END:DAYLIGHT
END:VTIMEZONE
BEGIN:VEVENT
SUMMARY:Morguncafé
DESCRIPTION:
URL;VALUE=URI:https://tabor.fo/events/morguncafe-2/
UID:urn:uuid:0b10e39e-c7c0-4a2a-9318-f87ac7702787
STATUS:CONFIRMED
ORGANIZER:
DTSTAMP:20260420T122705Z
DTSTART;TZID=Europe/London:20251002T100000
DTEND;TZID=Europe/London:20251002T120000
END:VEVENT
END:VCALENDAR