BEGIN:VCALENDAR
METHOD:PUBLISH
VERSION:2.0
CALSCALE:GREGORIAN
PRODID:-//NONSGML WPForms//NONSGML Sugar Calendar Feeds v3.10.0//EN
X-WR-CALNAME:Morguncafé
X-WR-CALDESC:
X-WR-TIMEZONE:Europe/London
BEGIN:VTIMEZONE
TZID:Europe/London
BEGIN:DAYLIGHT
TZOFFSETFROM:+0100
TZOFFSETTO:+0100
DTSTART:20250416T220000
TZNAME:BST
END:DAYLIGHT
END:VTIMEZONE
BEGIN:VTIMEZONE
TZID:Europe/London
BEGIN:DAYLIGHT
TZOFFSETFROM:+0100
TZOFFSETTO:+0100
DTSTART:20250416T220000
TZNAME:BST
END:DAYLIGHT
END:VTIMEZONE
BEGIN:VEVENT
SUMMARY:Morguncafé
DESCRIPTION:
URL;VALUE=URI:https://tabor.fo/events/morguncafe-3/
UID:urn:uuid:15f94cae-17f1-4258-9a94-38d632aaa4d3
STATUS:CONFIRMED
ORGANIZER:
DTSTAMP:20260422T083619Z
DTSTART;TZID=Europe/London:20251016T100000
DTEND;TZID=Europe/London:20251016T120000
END:VEVENT
END:VCALENDAR