BEGIN:VCALENDAR
METHOD:PUBLISH
VERSION:2.0
CALSCALE:GREGORIAN
PRODID:-//NONSGML WPForms//NONSGML Sugar Calendar Feeds v3.10.0//EN
X-WR-CALNAME:Morguncafé
X-WR-CALDESC:
X-WR-TIMEZONE:Europe/London
BEGIN:VTIMEZONE
TZID:Europe/London
BEGIN:STANDARD
TZOFFSETFROM:+0100
TZOFFSETTO:+0000
DTSTART:20251026T010000
TZNAME:GMT
END:STANDARD
END:VTIMEZONE
BEGIN:VTIMEZONE
TZID:Europe/London
BEGIN:STANDARD
TZOFFSETFROM:+0100
TZOFFSETTO:+0000
DTSTART:20251026T010000
TZNAME:GMT
END:STANDARD
END:VTIMEZONE
BEGIN:VEVENT
SUMMARY:Morguncafé
DESCRIPTION:Gimmi Olsen kemur at vitja
URL;VALUE=URI:https://tabor.fo/events/morguncafe-6/
UID:urn:uuid:cdd56066-1639-4117-930e-d8defb3aef17
STATUS:CONFIRMED
ORGANIZER:
DTSTAMP:20260420T045559Z
DTSTART;TZID=Europe/London:20251127T100000
DTEND;TZID=Europe/London:20251127T120000
END:VEVENT
END:VCALENDAR