BEGIN:VCALENDAR
METHOD:PUBLISH
VERSION:2.0
CALSCALE:GREGORIAN
PRODID:-//NONSGML WPForms//NONSGML Sugar Calendar Feeds v3.10.0//EN
X-WR-CALNAME:Morguncafé
X-WR-CALDESC:
X-WR-TIMEZONE:Europe/London
BEGIN:VTIMEZONE
TZID:Europe/London
BEGIN:DAYLIGHT
TZOFFSETFROM:+0000
TZOFFSETTO:+0100
DTSTART:20250330T010000
TZNAME:BST
END:DAYLIGHT
END:VTIMEZONE
BEGIN:VTIMEZONE
TZID:Europe/London
BEGIN:DAYLIGHT
TZOFFSETFROM:+0000
TZOFFSETTO:+0100
DTSTART:20250330T010000
TZNAME:BST
END:DAYLIGHT
END:VTIMEZONE
BEGIN:VEVENT
SUMMARY:Morguncafé
DESCRIPTION:Effie Campell kemur á vitjan
URL;VALUE=URI:https://tabor.fo/events/morguncafe/
UID:urn:uuid:8b23f765-74f7-4ee7-8ff9-da2789268dbd
STATUS:CONFIRMED
ORGANIZER:
DTSTAMP:20260420T141225Z
DTSTART;TZID=Europe/London:20250918T100000
DTEND;TZID=Europe/London:20250918T120000
END:VEVENT
END:VCALENDAR