BEGIN:VCALENDAR
METHOD:PUBLISH
VERSION:2.0
CALSCALE:GREGORIAN
PRODID:-//NONSGML WPForms//NONSGML Sugar Calendar Feeds v3.10.0//EN
X-WR-CALNAME:Morgunkaffi
X-WR-CALDESC:
X-WR-TIMEZONE:Europe/London
BEGIN:VTIMEZONE
TZID:Europe/London
BEGIN:STANDARD
TZOFFSETFROM:+0100
TZOFFSETTO:+0000
DTSTART:20241027T010000
TZNAME:GMT
END:STANDARD
BEGIN:DAYLIGHT
TZOFFSETFROM:+0000
TZOFFSETTO:+0100
DTSTART:20250330T010000
TZNAME:BST
END:DAYLIGHT
END:VTIMEZONE
BEGIN:VTIMEZONE
TZID:Europe/London
BEGIN:STANDARD
TZOFFSETFROM:+0100
TZOFFSETTO:+0000
DTSTART:20241027T010000
TZNAME:GMT
END:STANDARD
BEGIN:DAYLIGHT
TZOFFSETFROM:+0000
TZOFFSETTO:+0100
DTSTART:20250330T010000
TZNAME:BST
END:DAYLIGHT
END:VTIMEZONE
BEGIN:VEVENT
SUMMARY:Morgunkaffi
DESCRIPTION:Vit vitjan av Kára Højgård (post) og einum skúlaflokki\,
  sum kemur at syngja fyri okkum.
URL;VALUE=URI:https://tabor.fo/events/morgunkaffi-2/
UID:urn:uuid:87ef97b3-4dd8-4f2e-8f5b-0f4bb9959025
STATUS:CONFIRMED
ORGANIZER:
DTSTAMP:20260422T083921Z
DTSTART;TZID=Europe/London:20250403T100000
DTEND;TZID=Europe/London:20250403T120000
END:VEVENT
END:VCALENDAR