BEGIN:VCALENDAR
METHOD:PUBLISH
VERSION:2.0
CALSCALE:GREGORIAN
PRODID:-//NONSGML WPForms//NONSGML Sugar Calendar Feeds v3.10.0//EN
X-WR-CALNAME:Morgunkaffi
X-WR-CALDESC:
X-WR-TIMEZONE:Europe/London
BEGIN:VTIMEZONE
TZID:Europe/London
BEGIN:STANDARD
TZOFFSETFROM:+0100
TZOFFSETTO:+0000
DTSTART:20241027T010000
TZNAME:GMT
END:STANDARD
END:VTIMEZONE
BEGIN:VTIMEZONE
TZID:Europe/London
BEGIN:STANDARD
TZOFFSETFROM:+0100
TZOFFSETTO:+0000
DTSTART:20241027T010000
TZNAME:GMT
END:STANDARD
END:VTIMEZONE
BEGIN:VEVENT
SUMMARY:Morgunkaffi
DESCRIPTION:Hans Petur Jacobsen\, Strendur\, greiÃ°ir frÃ¡ viÃ° myndum o
 g talu\, frÃ¡ ferÃ° og arbeiÃ°i hjÃ¡ TÃ¦n Afrika Ã­ Etiopia. Eisini verÃ
 °ur innsavnan til hetta hjÃ¡lpararbeiÃ°iÃ°.
URL;VALUE=URI:https://tabor.fo/events/morgunkaffi/
UID:urn:uuid:8f8e976c-a9d4-4c9b-9382-a0a1c7f9bc19
STATUS:CONFIRMED
ORGANIZER:
DTSTAMP:20260422T083437Z
DTSTART;TZID=Europe/London:20250320T100000
DTEND;TZID=Europe/London:20250320T100000
END:VEVENT
END:VCALENDAR