BEGIN:VCALENDAR
METHOD:PUBLISH
VERSION:2.0
CALSCALE:GREGORIAN
PRODID:-//NONSGML WPForms//NONSGML Sugar Calendar Feeds v3.10.0//EN
X-WR-CALNAME:Møti
X-WR-CALDESC:
X-WR-TIMEZONE:Europe/London
BEGIN:VTIMEZONE
TZID:Europe/London
BEGIN:STANDARD
TZOFFSETFROM:+0100
TZOFFSETTO:+0000
DTSTART:20251026T010000
TZNAME:GMT
END:STANDARD
END:VTIMEZONE
BEGIN:VTIMEZONE
TZID:Europe/London
BEGIN:STANDARD
TZOFFSETFROM:+0100
TZOFFSETTO:+0000
DTSTART:20251026T010000
TZNAME:GMT
END:STANDARD
END:VTIMEZONE
BEGIN:VEVENT
SUMMARY:Møti
DESCRIPTION:Vit leggja rokniskapin fyri 2024 fram. Eisini fáa vit kunni
 ng um ætlan at skipa bíbliubólkar.
URL;VALUE=URI:https://tabor.fo/events/moti-15-10/
UID:urn:uuid:71bdfab1-9863-4145-abaa-967070dc8e33
STATUS:CONFIRMED
ORGANIZER:
DTSTAMP:20260421T174845Z
DTSTART;TZID=Europe/London:20251026T140000
DTEND;TZID=Europe/London:20251026T153000
END:VEVENT
END:VCALENDAR