BEGIN:VCALENDAR
METHOD:PUBLISH
VERSION:2.0
CALSCALE:GREGORIAN
PRODID:-//NONSGML WPForms//NONSGML Sugar Calendar Feeds v3.10.0//EN
X-WR-CALNAME:Møti v/ tey ungu
X-WR-CALDESC:
X-WR-TIMEZONE:Europe/London
BEGIN:VTIMEZONE
TZID:Europe/London
BEGIN:STANDARD
TZOFFSETFROM:+0100
TZOFFSETTO:+0000
DTSTART:20251026T010000
TZNAME:GMT
END:STANDARD
END:VTIMEZONE
BEGIN:VTIMEZONE
TZID:Europe/London
BEGIN:STANDARD
TZOFFSETFROM:+0100
TZOFFSETTO:+0000
DTSTART:20251026T010000
TZNAME:GMT
END:STANDARD
END:VTIMEZONE
BEGIN:VEVENT
SUMMARY:Møti v/ tey ungu
DESCRIPTION:
URL;VALUE=URI:https://tabor.fo/events/moti-15-11/
UID:urn:uuid:c66227b5-880c-46fb-83c4-34c25be1703d
STATUS:CONFIRMED
ORGANIZER:
DTSTAMP:20260422T083411Z
DTSTART;TZID=Europe/London:20251123T140000
DTEND;TZID=Europe/London:20251123T153000
END:VEVENT
END:VCALENDAR