BEGIN:VCALENDAR
METHOD:PUBLISH
VERSION:2.0
CALSCALE:GREGORIAN
PRODID:-//NONSGML WPForms//NONSGML Sugar Calendar Feeds v3.10.0//EN
X-WR-CALNAME:Møti - 3 vitnisburðar
X-WR-CALDESC:
X-WR-TIMEZONE:Europe/London
BEGIN:VTIMEZONE
TZID:Europe/London
BEGIN:DAYLIGHT
TZOFFSETFROM:+0100
TZOFFSETTO:+0100
DTSTART:20250406T020000
TZNAME:BST
END:DAYLIGHT
END:VTIMEZONE
BEGIN:VTIMEZONE
TZID:Europe/London
BEGIN:DAYLIGHT
TZOFFSETFROM:+0100
TZOFFSETTO:+0100
DTSTART:20250406T020000
TZNAME:BST
END:DAYLIGHT
END:VTIMEZONE
BEGIN:VEVENT
SUMMARY:Møti - 3 vitnisburðar
DESCRIPTION:
URL;VALUE=URI:https://tabor.fo/events/moti-15-4/
UID:urn:uuid:04f21274-352b-48ab-b3e4-1d4a6038196d
STATUS:CONFIRMED
ORGANIZER:
DTSTAMP:20260422T114143Z
DTSTART;TZID=Europe/London:20251005T140000
DTEND;TZID=Europe/London:20251005T153000
END:VEVENT
END:VCALENDAR