BEGIN:VCALENDAR
METHOD:PUBLISH
VERSION:2.0
CALSCALE:GREGORIAN
PRODID:-//NONSGML WPForms//NONSGML Sugar Calendar Feeds v3.10.0//EN
X-WR-CALNAME:Møti v/ Frits Thomsen
X-WR-CALDESC:
X-WR-TIMEZONE:Europe/London
BEGIN:VTIMEZONE
TZID:Europe/London
BEGIN:DAYLIGHT
TZOFFSETFROM:+0100
TZOFFSETTO:+0100
DTSTART:20250413T020000
TZNAME:BST
END:DAYLIGHT
END:VTIMEZONE
BEGIN:VTIMEZONE
TZID:Europe/London
BEGIN:DAYLIGHT
TZOFFSETFROM:+0100
TZOFFSETTO:+0100
DTSTART:20250413T020000
TZNAME:BST
END:DAYLIGHT
END:VTIMEZONE
BEGIN:VEVENT
SUMMARY:Møti v/ Frits Thomsen
DESCRIPTION:
URL;VALUE=URI:https://tabor.fo/events/moti-15-5/
UID:urn:uuid:f8057621-c896-45e1-a34e-d767935f2567
STATUS:CONFIRMED
ORGANIZER:
DTSTAMP:20260422T021442Z
DTSTART;TZID=Europe/London:20251012T140000
DTEND;TZID=Europe/London:20251012T153000
END:VEVENT
END:VCALENDAR