BEGIN:VCALENDAR
METHOD:PUBLISH
VERSION:2.0
CALSCALE:GREGORIAN
PRODID:-//NONSGML WPForms//NONSGML Sugar Calendar Feeds v3.10.0//EN
X-WR-CALNAME:Møti v/ Taborkórinum
X-WR-CALDESC:
X-WR-TIMEZONE:Europe/London
BEGIN:VTIMEZONE
TZID:Europe/London
BEGIN:DAYLIGHT
TZOFFSETFROM:+0100
TZOFFSETTO:+0100
DTSTART:20250420T020000
TZNAME:BST
END:DAYLIGHT
END:VTIMEZONE
BEGIN:VTIMEZONE
TZID:Europe/London
BEGIN:DAYLIGHT
TZOFFSETFROM:+0100
TZOFFSETTO:+0100
DTSTART:20250420T020000
TZNAME:BST
END:DAYLIGHT
END:VTIMEZONE
BEGIN:VEVENT
SUMMARY:Møti v/ Taborkórinum
DESCRIPTION:
URL;VALUE=URI:https://tabor.fo/events/moti-15-6/
UID:urn:uuid:64a00b0b-412e-4938-ad9d-95dea2b7b798
STATUS:CONFIRMED
ORGANIZER:
DTSTAMP:20260422T002106Z
DTSTART;TZID=Europe/London:20251019T140000
DTEND;TZID=Europe/London:20251019T153000
END:VEVENT
END:VCALENDAR