BEGIN:VCALENDAR
METHOD:PUBLISH
VERSION:2.0
CALSCALE:GREGORIAN
PRODID:-//NONSGML WPForms//NONSGML Sugar Calendar Feeds v3.10.0//EN
X-WR-CALNAME:Møti v/ Torleif Johannesen ...
X-WR-CALDESC:
X-WR-TIMEZONE:Europe/London
BEGIN:VTIMEZONE
TZID:Europe/London
BEGIN:STANDARD
TZOFFSETFROM:+0100
TZOFFSETTO:+0000
DTSTART:20251026T010000
TZNAME:GMT
END:STANDARD
END:VTIMEZONE
BEGIN:VTIMEZONE
TZID:Europe/London
BEGIN:STANDARD
TZOFFSETFROM:+0100
TZOFFSETTO:+0000
DTSTART:20251026T010000
TZNAME:GMT
END:STANDARD
END:VTIMEZONE
BEGIN:VEVENT
SUMMARY:Møti v/ Torleif Johannesen ...
DESCRIPTION:Evni: Dópur
URL;VALUE=URI:https://tabor.fo/events/moti-15-9/
UID:urn:uuid:60faa2a6-bf98-4d9b-87ed-0e6f2d6fab72
STATUS:CONFIRMED
ORGANIZER:
DTSTAMP:20260421T192457Z
DTSTART;TZID=Europe/London:20251116T140000
DTEND;TZID=Europe/London:20251116T153000
END:VEVENT
END:VCALENDAR