BEGIN:VCALENDAR
METHOD:PUBLISH
VERSION:2.0
CALSCALE:GREGORIAN
PRODID:-//NONSGML WPForms//NONSGML Sugar Calendar Feeds v3.10.0//EN
X-WR-CALNAME:Nýggjársdagur - møti v/Streingjakórinum
X-WR-CALDESC:
X-WR-TIMEZONE:Europe/London
BEGIN:VTIMEZONE
TZID:Europe/London
BEGIN:STANDARD
TZOFFSETFROM:+0100
TZOFFSETTO:+0000
DTSTART:20251026T010000
TZNAME:GMT
END:STANDARD
END:VTIMEZONE
BEGIN:VTIMEZONE
TZID:Europe/London
BEGIN:STANDARD
TZOFFSETFROM:+0100
TZOFFSETTO:+0000
DTSTART:20251026T010000
TZNAME:GMT
END:STANDARD
END:VTIMEZONE
BEGIN:VEVENT
SUMMARY:Nýggjársdagur - møti v/Streingjakórinum
DESCRIPTION:Alfred Olsen talar.\n\nInnsavnan til húsið
URL;VALUE=URI:https://tabor.fo/events/moti-19/
UID:urn:uuid:14dfc480-0221-4dce-8c92-f973e8fb34aa
STATUS:CONFIRMED
ORGANIZER:
DTSTAMP:20260421T161137Z
DTSTART;TZID=Europe/London:20260101T140000
DTEND;TZID=Europe/London:20260101T160000
END:VEVENT
END:VCALENDAR