BEGIN:VCALENDAR
METHOD:PUBLISH
VERSION:2.0
CALSCALE:GREGORIAN
PRODID:-//NONSGML WPForms//NONSGML Sugar Calendar Feeds v3.10.0//EN
X-WR-CALNAME:Møti við Taborkórinum
X-WR-CALDESC:
X-WR-TIMEZONE:Europe/London
BEGIN:VTIMEZONE
TZID:Europe/London
BEGIN:DAYLIGHT
TZOFFSETFROM:+0000
TZOFFSETTO:+0100
DTSTART:20250330T010000
TZNAME:BST
END:DAYLIGHT
END:VTIMEZONE
BEGIN:VTIMEZONE
TZID:Europe/London
BEGIN:DAYLIGHT
TZOFFSETFROM:+0000
TZOFFSETTO:+0100
DTSTART:20250330T010000
TZNAME:BST
END:DAYLIGHT
END:VTIMEZONE
BEGIN:VEVENT
SUMMARY:Møti við Taborkórinum
DESCRIPTION:Innsavnan til missiónshúsið
URL;VALUE=URI:https://tabor.fo/events/moti-20/
UID:urn:uuid:2b37893d-a94b-4464-ab40-6bb8632af515
STATUS:CONFIRMED
ORGANIZER:
DTSTAMP:20260419T123931Z
DTSTART;TZID=Europe/London:20250601T140000
DTEND;TZID=Europe/London:20250601T153000
END:VEVENT
END:VCALENDAR