BEGIN:VCALENDAR
METHOD:PUBLISH
VERSION:2.0
CALSCALE:GREGORIAN
PRODID:-//NONSGML WPForms//NONSGML Sugar Calendar Feeds v3.10.0//EN
X-WR-CALNAME:Felagsútferð
X-WR-CALDESC:
X-WR-TIMEZONE:Europe/London
BEGIN:VTIMEZONE
TZID:Europe/London
BEGIN:DAYLIGHT
TZOFFSETFROM:+0000
TZOFFSETTO:+0100
DTSTART:20250330T010000
TZNAME:BST
END:DAYLIGHT
END:VTIMEZONE
BEGIN:VTIMEZONE
TZID:Europe/London
BEGIN:DAYLIGHT
TZOFFSETFROM:+0000
TZOFFSETTO:+0100
DTSTART:20250330T010000
TZNAME:BST
END:DAYLIGHT
END:VTIMEZONE
BEGIN:VEVENT
SUMMARY:Felagsútferð
DESCRIPTION:
URL;VALUE=URI:https://tabor.fo/events/moti-22/
UID:urn:uuid:4a7904ab-f44b-479f-a8cc-54e89ca80a76
STATUS:CONFIRMED
ORGANIZER:
DTSTAMP:20260421T085917Z
DTSTART;TZID=Europe/London:20250615T140000
DTEND;TZID=Europe/London:20250615T140000
END:VEVENT
END:VCALENDAR