BEGIN:VCALENDAR
METHOD:PUBLISH
VERSION:2.0
CALSCALE:GREGORIAN
PRODID:-//NONSGML WPForms//NONSGML Sugar Calendar Feeds v3.10.0//EN
X-WR-CALNAME:Møti v/Hjørleif Poulsen
X-WR-CALDESC:
X-WR-TIMEZONE:Europe/London
BEGIN:VTIMEZONE
TZID:Europe/London
BEGIN:STANDARD
TZOFFSETFROM:+0100
TZOFFSETTO:+0000
DTSTART:20251026T010000
TZNAME:GMT
END:STANDARD
END:VTIMEZONE
BEGIN:VTIMEZONE
TZID:Europe/London
BEGIN:STANDARD
TZOFFSETFROM:+0100
TZOFFSETTO:+0000
DTSTART:20251026T010000
TZNAME:GMT
END:STANDARD
END:VTIMEZONE
BEGIN:VEVENT
SUMMARY:Møti v/Hjørleif Poulsen
DESCRIPTION:
URL;VALUE=URI:https://tabor.fo/events/moti-26-3/
UID:urn:uuid:610e30ae-6c1c-445c-9ac9-4f3876b2f244
STATUS:CONFIRMED
ORGANIZER:
DTSTAMP:20260420T200140Z
DTSTART;TZID=Europe/London:20260201T140000
DTEND;TZID=Europe/London:20260201T160000
END:VEVENT
END:VCALENDAR