BEGIN:VCALENDAR
METHOD:PUBLISH
VERSION:2.0
CALSCALE:GREGORIAN
PRODID:-//NONSGML WPForms//NONSGML Sugar Calendar Feeds v3.10.0//EN
X-WR-CALNAME:Møti - vitnimøti
X-WR-CALDESC:
X-WR-TIMEZONE:Europe/London
BEGIN:VTIMEZONE
TZID:Europe/London
BEGIN:STANDARD
TZOFFSETFROM:+0100
TZOFFSETTO:+0000
DTSTART:20251026T010000
TZNAME:GMT
END:STANDARD
END:VTIMEZONE
BEGIN:VTIMEZONE
TZID:Europe/London
BEGIN:STANDARD
TZOFFSETFROM:+0100
TZOFFSETTO:+0000
DTSTART:20251026T010000
TZNAME:GMT
END:STANDARD
END:VTIMEZONE
BEGIN:VEVENT
SUMMARY:Møti - vitnimøti
DESCRIPTION:
URL;VALUE=URI:https://tabor.fo/events/moti-26-4/
UID:urn:uuid:4f3e6eb9-00ef-49a6-9166-f45eff72d5b3
STATUS:CONFIRMED
ORGANIZER:
DTSTAMP:20260420T220658Z
DTSTART;TZID=Europe/London:20260104T140000
DTEND;TZID=Europe/London:20260104T160000
END:VEVENT
END:VCALENDAR