BEGIN:VCALENDAR
METHOD:PUBLISH
VERSION:2.0
CALSCALE:GREGORIAN
PRODID:-//NONSGML WPForms//NONSGML Sugar Calendar Feeds v3.10.0//EN
X-WR-CALNAME:Blákrossfest
X-WR-CALDESC:
X-WR-TIMEZONE:Europe/London
BEGIN:VTIMEZONE
TZID:Europe/London
BEGIN:STANDARD
TZOFFSETFROM:+0100
TZOFFSETTO:+0000
DTSTART:20251026T010000
TZNAME:GMT
END:STANDARD
END:VTIMEZONE
BEGIN:VTIMEZONE
TZID:Europe/London
BEGIN:STANDARD
TZOFFSETFROM:+0100
TZOFFSETTO:+0000
DTSTART:20251026T010000
TZNAME:GMT
END:STANDARD
END:VTIMEZONE
BEGIN:VEVENT
SUMMARY:Blákrossfest
DESCRIPTION:
URL;VALUE=URI:https://tabor.fo/events/moti-26/
UID:urn:uuid:b957acf6-cef8-4adb-aecc-183ad9fc6baa
STATUS:CONFIRMED
ORGANIZER:
DTSTAMP:20260420T180046Z
DTSTART;TZID=Europe/London:20260111T160000
DTEND;TZID=Europe/London:20260111T180000
END:VEVENT
END:VCALENDAR