BEGIN:VCALENDAR
METHOD:PUBLISH
VERSION:2.0
CALSCALE:GREGORIAN
PRODID:-//NONSGML WPForms//NONSGML Sugar Calendar Feeds v3.11.0//EN
X-WR-CALNAME:Evnismøti við Steen Palmqvist
X-WR-CALDESC:
X-WR-TIMEZONE:Europe/London
BEGIN:VTIMEZONE
TZID:Europe/London
BEGIN:STANDARD
TZOFFSETFROM:+0100
TZOFFSETTO:+0000
DTSTART:20241027T010000
TZNAME:GMT
END:STANDARD
END:VTIMEZONE
BEGIN:VTIMEZONE
TZID:Europe/London
BEGIN:STANDARD
TZOFFSETFROM:+0100
TZOFFSETTO:+0000
DTSTART:20241027T010000
TZNAME:GMT
END:STANDARD
END:VTIMEZONE
BEGIN:VEVENT
SUMMARY:Evnismøti við Steen Palmqvist
DESCRIPTION:Evni: Hjálpsemi og umsorgan í meinigheitini.\n\nInnsavnan 
 til Agape
URL;VALUE=URI:https://tabor.fo/events/moti-3/
UID:urn:uuid:a1d24a3d-57d4-4220-866d-9b93c5fc98fe
STATUS:CONFIRMED
ORGANIZER:
DTSTAMP:20260424T134205Z
DTSTART;TZID=Europe/London:20250126T140000
DTEND;TZID=Europe/London:20250126T153000
END:VEVENT
END:VCALENDAR