BEGIN:VCALENDAR
METHOD:PUBLISH
VERSION:2.0
CALSCALE:GREGORIAN
PRODID:-//NONSGML WPForms//NONSGML Sugar Calendar Feeds v3.10.0//EN
X-WR-CALNAME:Nýggjársaftan
X-WR-CALDESC:
X-WR-TIMEZONE:Europe/London
BEGIN:VTIMEZONE
TZID:Europe/London
BEGIN:STANDARD
TZOFFSETFROM:+0100
TZOFFSETTO:+0000
DTSTART:20251026T010000
TZNAME:GMT
END:STANDARD
END:VTIMEZONE
BEGIN:VTIMEZONE
TZID:Europe/London
BEGIN:STANDARD
TZOFFSETFROM:+0100
TZOFFSETTO:+0000
DTSTART:20251026T010000
TZNAME:GMT
END:STANDARD
END:VTIMEZONE
BEGIN:VEVENT
SUMMARY:Nýggjársaftan
DESCRIPTION:
URL;VALUE=URI:https://tabor.fo/events/nyggjarsaftan/
UID:urn:uuid:079ff38f-1787-4039-a851-0848276ac6d4
STATUS:CONFIRMED
ORGANIZER:
DTSTAMP:20260419T230654Z
DTSTART;VALUE=DATE:20251231
END:VEVENT
END:VCALENDAR