BEGIN:VCALENDAR
METHOD:PUBLISH
VERSION:2.0
CALSCALE:GREGORIAN
PRODID:-//NONSGML WPForms//NONSGML Sugar Calendar Feeds v3.11.0//EN
X-WR-CALNAME:Sunnudagsskúli
X-WR-CALDESC:
X-WR-TIMEZONE:Europe/London
BEGIN:VTIMEZONE
TZID:Europe/London
BEGIN:STANDARD
TZOFFSETFROM:+0100
TZOFFSETTO:+0000
DTSTART:20241027T010000
TZNAME:GMT
END:STANDARD
END:VTIMEZONE
BEGIN:VTIMEZONE
TZID:Europe/London
BEGIN:STANDARD
TZOFFSETFROM:+0100
TZOFFSETTO:+0000
DTSTART:20241027T010000
TZNAME:GMT
END:STANDARD
END:VTIMEZONE
BEGIN:VEVENT
SUMMARY:Sunnudagsskúli
DESCRIPTION:
URL;VALUE=URI:https://tabor.fo/events/sunnudagsskuli-16/
UID:urn:uuid:a98b2932-810d-4b26-8a62-a610c18de89d
STATUS:CONFIRMED
ORGANIZER:
DTSTAMP:20260424T152757Z
DTSTART;TZID=Europe/London:20250119T140000
DTEND;TZID=Europe/London:20250119T150000
END:VEVENT
END:VCALENDAR