BEGIN:VCALENDAR
METHOD:PUBLISH
VERSION:2.0
CALSCALE:GREGORIAN
PRODID:-//NONSGML WPForms//NONSGML Sugar Calendar Feeds v3.10.0//EN
X-WR-CALNAME:Møti
X-WR-CALDESC:
X-WR-TIMEZONE:Europe/London
BEGIN:VTIMEZONE
TZID:Europe/London
BEGIN:STANDARD
TZOFFSETFROM:+0100
TZOFFSETTO:+0000
DTSTART:20241027T010000
TZNAME:GMT
END:STANDARD
BEGIN:DAYLIGHT
TZOFFSETFROM:+0000
TZOFFSETTO:+0100
DTSTART:20250330T010000
TZNAME:BST
END:DAYLIGHT
END:VTIMEZONE
BEGIN:VTIMEZONE
TZID:Europe/London
BEGIN:STANDARD
TZOFFSETFROM:+0100
TZOFFSETTO:+0000
DTSTART:20241027T010000
TZNAME:GMT
END:STANDARD
BEGIN:DAYLIGHT
TZOFFSETFROM:+0000
TZOFFSETTO:+0100
DTSTART:20250330T010000
TZNAME:BST
END:DAYLIGHT
END:VTIMEZONE
BEGIN:VEVENT
SUMMARY:Møti
DESCRIPTION:Magni Skoradal talar\, og Tabor kórið syngur.\n\nØll eru 
 saman\, tí eingin Sunnudagskúli
URL;VALUE=URI:https://tabor.fo/events/sunnudagsskuli-22/
UID:urn:uuid:21e41390-cab9-48e0-b86d-fb0093c1183c
STATUS:CONFIRMED
ORGANIZER:
DTSTAMP:20260419T153023Z
DTSTART;TZID=Europe/London:20250406T140000
DTEND;TZID=Europe/London:20250406T140000
END:VEVENT
END:VCALENDAR