BEGIN:VCALENDAR
METHOD:PUBLISH
VERSION:2.0
CALSCALE:GREGORIAN
PRODID:-//NONSGML WPForms//NONSGML Sugar Calendar Feeds v3.10.0//EN
X-WR-CALNAME:Sunnudagsskúli
X-WR-CALDESC:
X-WR-TIMEZONE:Europe/London
BEGIN:VTIMEZONE
TZID:Europe/London
BEGIN:DAYLIGHT
TZOFFSETFROM:+0000
TZOFFSETTO:+0100
DTSTART:20250330T010000
TZNAME:BST
END:DAYLIGHT
END:VTIMEZONE
BEGIN:VTIMEZONE
TZID:Europe/London
BEGIN:DAYLIGHT
TZOFFSETFROM:+0000
TZOFFSETTO:+0100
DTSTART:20250330T010000
TZNAME:BST
END:DAYLIGHT
END:VTIMEZONE
BEGIN:VEVENT
SUMMARY:Sunnudagsskúli
DESCRIPTION:
URL;VALUE=URI:https://tabor.fo/events/sunnudagsskuli-24-3/
UID:urn:uuid:7827d7f4-a736-443b-b16e-1df213fb2a10
STATUS:CONFIRMED
ORGANIZER:
DTSTAMP:20260422T062822Z
DTSTART;TZID=Europe/London:20250907T140000
DTEND;TZID=Europe/London:20250907T150000
END:VEVENT
END:VCALENDAR