BEGIN:VCALENDAR
METHOD:PUBLISH
VERSION:2.0
CALSCALE:GREGORIAN
PRODID:-//NONSGML WPForms//NONSGML Sugar Calendar Feeds v3.10.0//EN
X-WR-CALNAME:Sunnudagsskúli
X-WR-CALDESC:
X-WR-TIMEZONE:Europe/London
BEGIN:VTIMEZONE
TZID:Europe/London
BEGIN:DAYLIGHT
TZOFFSETFROM:+0100
TZOFFSETTO:+0100
DTSTART:20250406T020000
TZNAME:BST
END:DAYLIGHT
END:VTIMEZONE
BEGIN:VTIMEZONE
TZID:Europe/London
BEGIN:DAYLIGHT
TZOFFSETFROM:+0100
TZOFFSETTO:+0100
DTSTART:20250406T020000
TZNAME:BST
END:DAYLIGHT
END:VTIMEZONE
BEGIN:VEVENT
SUMMARY:Sunnudagsskúli
DESCRIPTION:
URL;VALUE=URI:https://tabor.fo/events/sunnudagsskuli-24-6/
UID:urn:uuid:424b601b-69eb-4715-85f5-e8a593446b11
STATUS:CONFIRMED
ORGANIZER:
DTSTAMP:20260422T104429Z
DTSTART;TZID=Europe/London:20251005T140000
DTEND;TZID=Europe/London:20251005T150000
END:VEVENT
END:VCALENDAR