BEGIN:VCALENDAR
METHOD:PUBLISH
VERSION:2.0
CALSCALE:GREGORIAN
PRODID:-//NONSGML WPForms//NONSGML Sugar Calendar Feeds v3.10.0//EN
X-WR-CALNAME:Sunnudagsskúli
X-WR-CALDESC:
X-WR-TIMEZONE:Europe/London
BEGIN:VTIMEZONE
TZID:Europe/London
BEGIN:DAYLIGHT
TZOFFSETFROM:+0100
TZOFFSETTO:+0100
DTSTART:20250413T020000
TZNAME:BST
END:DAYLIGHT
END:VTIMEZONE
BEGIN:VTIMEZONE
TZID:Europe/London
BEGIN:DAYLIGHT
TZOFFSETFROM:+0100
TZOFFSETTO:+0100
DTSTART:20250413T020000
TZNAME:BST
END:DAYLIGHT
END:VTIMEZONE
BEGIN:VEVENT
SUMMARY:Sunnudagsskúli
DESCRIPTION:
URL;VALUE=URI:https://tabor.fo/events/sunnudagsskuli-24-7/
UID:urn:uuid:ddc361c3-c1e0-4eea-a44a-dbcc27538cd0
STATUS:CONFIRMED
ORGANIZER:
DTSTAMP:20260422T134405Z
DTSTART;TZID=Europe/London:20251012T140000
DTEND;TZID=Europe/London:20251012T150000
END:VEVENT
END:VCALENDAR