BEGIN:VCALENDAR
METHOD:PUBLISH
VERSION:2.0
CALSCALE:GREGORIAN
PRODID:-//NONSGML WPForms//NONSGML Sugar Calendar Feeds v3.10.0//EN
X-WR-CALNAME:Sunnudagsskúli - saman á sangmøtinum
X-WR-CALDESC:
X-WR-TIMEZONE:Europe/London
BEGIN:VTIMEZONE
TZID:Europe/London
BEGIN:DAYLIGHT
TZOFFSETFROM:+0100
TZOFFSETTO:+0100
DTSTART:20250420T020000
TZNAME:BST
END:DAYLIGHT
END:VTIMEZONE
BEGIN:VTIMEZONE
TZID:Europe/London
BEGIN:DAYLIGHT
TZOFFSETFROM:+0100
TZOFFSETTO:+0100
DTSTART:20250420T020000
TZNAME:BST
END:DAYLIGHT
END:VTIMEZONE
BEGIN:VEVENT
SUMMARY:Sunnudagsskúli - saman á sangmøtinum
DESCRIPTION:
URL;VALUE=URI:https://tabor.fo/events/sunnudagsskuli-24-8/
UID:urn:uuid:03cc12a0-0532-4fe7-917f-c42018900d48
STATUS:CONFIRMED
ORGANIZER:
DTSTAMP:20260422T134607Z
DTSTART;TZID=Europe/London:20251019T140000
DTEND;TZID=Europe/London:20251019T150000
END:VEVENT
END:VCALENDAR