BEGIN:VCALENDAR
METHOD:PUBLISH
VERSION:2.0
CALSCALE:GREGORIAN
PRODID:-//NONSGML WPForms//NONSGML Sugar Calendar Feeds v3.10.0//EN
X-WR-CALNAME:Sunnudagsskúli
X-WR-CALDESC:
X-WR-TIMEZONE:Europe/London
BEGIN:VTIMEZONE
TZID:Europe/London
BEGIN:STANDARD
TZOFFSETFROM:+0100
TZOFFSETTO:+0000
DTSTART:20251026T010000
TZNAME:GMT
END:STANDARD
END:VTIMEZONE
BEGIN:VTIMEZONE
TZID:Europe/London
BEGIN:STANDARD
TZOFFSETFROM:+0100
TZOFFSETTO:+0000
DTSTART:20251026T010000
TZNAME:GMT
END:STANDARD
END:VTIMEZONE
BEGIN:VEVENT
SUMMARY:Sunnudagsskúli
DESCRIPTION:
URL;VALUE=URI:https://tabor.fo/events/sunnudagsskuli-25/
UID:urn:uuid:b2250839-6c40-47d1-9814-6193c112ea74
STATUS:CONFIRMED
ORGANIZER:
DTSTAMP:20260421T140552Z
DTSTART;TZID=Europe/London:20251102T140000
DTEND;TZID=Europe/London:20251102T150000
END:VEVENT
END:VCALENDAR