BEGIN:VCALENDAR
METHOD:PUBLISH
VERSION:2.0
CALSCALE:GREGORIAN
PRODID:-//NONSGML WPForms//NONSGML Sugar Calendar Feeds v3.10.0//EN
X-WR-CALNAME:SUM á Skála
X-WR-CALDESC:
X-WR-TIMEZONE:Europe/London
BEGIN:VTIMEZONE
TZID:Europe/London
BEGIN:STANDARD
TZOFFSETFROM:+0100
TZOFFSETTO:+0000
DTSTART:20251026T010000
TZNAME:GMT
END:STANDARD
END:VTIMEZONE
BEGIN:VTIMEZONE
TZID:Europe/London
BEGIN:STANDARD
TZOFFSETFROM:+0100
TZOFFSETTO:+0000
DTSTART:20251026T010000
TZNAME:GMT
END:STANDARD
END:VTIMEZONE
BEGIN:VEVENT
SUMMARY:SUM á Skála
DESCRIPTION:
URL;VALUE=URI:https://tabor.fo/events/ungdomsmoti-4-10/
UID:urn:uuid:3b4e7e47-e412-4c87-a402-556e6f64fd72
STATUS:CONFIRMED
ORGANIZER:
DTSTAMP:20260421T123825Z
DTSTART;TZID=Europe/London:20251129T200000
DTEND;TZID=Europe/London:20251129T210000
END:VEVENT
END:VCALENDAR