BEGIN:VCALENDAR
METHOD:PUBLISH
VERSION:2.0
CALSCALE:GREGORIAN
PRODID:-//NONSGML WPForms//NONSGML Sugar Calendar Feeds v3.10.0//EN
X-WR-CALNAME:Ungdómsmøti - Jólafest
X-WR-CALDESC:
X-WR-TIMEZONE:Europe/London
BEGIN:VTIMEZONE
TZID:Europe/London
BEGIN:STANDARD
TZOFFSETFROM:+0100
TZOFFSETTO:+0000
DTSTART:20251026T010000
TZNAME:GMT
END:STANDARD
END:VTIMEZONE
BEGIN:VTIMEZONE
TZID:Europe/London
BEGIN:STANDARD
TZOFFSETFROM:+0100
TZOFFSETTO:+0000
DTSTART:20251026T010000
TZNAME:GMT
END:STANDARD
END:VTIMEZONE
BEGIN:VEVENT
SUMMARY:Ungdómsmøti - Jólafest
DESCRIPTION:
URL;VALUE=URI:https://tabor.fo/events/ungdomsmoti-4-12/
UID:urn:uuid:ea3b2b06-7a65-4480-8c7a-549d1dcb58fd
STATUS:CONFIRMED
ORGANIZER:
DTSTAMP:20260421T164343Z
DTSTART;TZID=Europe/London:20251213T200000
DTEND;TZID=Europe/London:20251213T210000
END:VEVENT
END:VCALENDAR