BEGIN:VCALENDAR
METHOD:PUBLISH
VERSION:2.0
CALSCALE:GREGORIAN
PRODID:-//NONSGML WPForms//NONSGML Sugar Calendar Feeds v3.10.0//EN
X-WR-CALNAME:Ungdómsmøti v/ Marius Jacobsen
X-WR-CALDESC:
X-WR-TIMEZONE:Europe/London
BEGIN:VTIMEZONE
TZID:Europe/London
BEGIN:STANDARD
TZOFFSETFROM:+0100
TZOFFSETTO:+0000
DTSTART:20251026T010000
TZNAME:GMT
END:STANDARD
END:VTIMEZONE
BEGIN:VTIMEZONE
TZID:Europe/London
BEGIN:STANDARD
TZOFFSETFROM:+0100
TZOFFSETTO:+0000
DTSTART:20251026T010000
TZNAME:GMT
END:STANDARD
END:VTIMEZONE
BEGIN:VEVENT
SUMMARY:Ungdómsmøti v/ Marius Jacobsen
DESCRIPTION:
URL;VALUE=URI:https://tabor.fo/events/ungdomsmoti-4-6/
UID:urn:uuid:e0d6f6fc-4b1f-445f-b848-dfa704e9fd00
STATUS:CONFIRMED
ORGANIZER:
DTSTAMP:20260421T090058Z
DTSTART;TZID=Europe/London:20251101T200000
DTEND;TZID=Europe/London:20251101T210000
END:VEVENT
END:VCALENDAR