BEGIN:VCALENDAR
METHOD:PUBLISH
VERSION:2.0
CALSCALE:GREGORIAN
PRODID:-//NONSGML WPForms//NONSGML Sugar Calendar Feeds v3.10.0//EN
X-WR-CALNAME:Ungdómsmøti v/Tummas Kannuberg …
X-WR-CALDESC:
X-WR-TIMEZONE:Europe/London
BEGIN:VTIMEZONE
TZID:Europe/London
BEGIN:STANDARD
TZOFFSETFROM:+0100
TZOFFSETTO:+0000
DTSTART:20251026T010000
TZNAME:GMT
END:STANDARD
END:VTIMEZONE
BEGIN:VTIMEZONE
TZID:Europe/London
BEGIN:STANDARD
TZOFFSETFROM:+0100
TZOFFSETTO:+0000
DTSTART:20251026T010000
TZNAME:GMT
END:STANDARD
END:VTIMEZONE
BEGIN:VEVENT
SUMMARY:Ungdómsmøti v/Tummas Kannuberg …
DESCRIPTION:
URL;VALUE=URI:https://tabor.fo/events/ungdomsmoti-5-2/
UID:urn:uuid:94a6cb9f-e140-4b2a-9efb-9c59b7b43760
STATUS:CONFIRMED
ORGANIZER:
DTSTAMP:20260420T220529Z
DTSTART;TZID=Europe/London:20260124T193000
DTEND;TZID=Europe/London:20260124T213000
END:VEVENT
END:VCALENDAR