BEGIN:VCALENDAR
METHOD:PUBLISH
VERSION:2.0
CALSCALE:GREGORIAN
PRODID:-//NONSGML WPForms//NONSGML Sugar Calendar Feeds v3.10.0//EN
X-WR-CALNAME:Ungdómsmøti v/ Beinir Langgaard
X-WR-CALDESC:
X-WR-TIMEZONE:Europe/London
BEGIN:VTIMEZONE
TZID:Europe/London
BEGIN:STANDARD
TZOFFSETFROM:+0100
TZOFFSETTO:+0000
DTSTART:20251026T010000
TZNAME:GMT
END:STANDARD
END:VTIMEZONE
BEGIN:VTIMEZONE
TZID:Europe/London
BEGIN:STANDARD
TZOFFSETFROM:+0100
TZOFFSETTO:+0000
DTSTART:20251026T010000
TZNAME:GMT
END:STANDARD
END:VTIMEZONE
BEGIN:VEVENT
SUMMARY:Ungdómsmøti v/ Beinir Langgaard
DESCRIPTION:
URL;VALUE=URI:https://tabor.fo/events/ungdomsmoti-5-5/
UID:urn:uuid:5220faa4-96ed-4ed8-99f5-13e882df876e
STATUS:CONFIRMED
ORGANIZER:
DTSTAMP:20260420T140438Z
DTSTART;TZID=Europe/London:20260131T193000
DTEND;TZID=Europe/London:20260131T213000
END:VEVENT
END:VCALENDAR