BEGIN:VCALENDAR
METHOD:PUBLISH
VERSION:2.0
CALSCALE:GREGORIAN
PRODID:-//NONSGML WPForms//NONSGML Sugar Calendar Feeds v3.10.0//EN
X-WR-CALNAME:Ungdómsmøti - Opið hús
X-WR-CALDESC:
X-WR-TIMEZONE:Europe/London
BEGIN:VTIMEZONE
TZID:Europe/London
BEGIN:STANDARD
TZOFFSETFROM:+0100
TZOFFSETTO:+0000
DTSTART:20251026T010000
TZNAME:GMT
END:STANDARD
END:VTIMEZONE
BEGIN:VTIMEZONE
TZID:Europe/London
BEGIN:STANDARD
TZOFFSETFROM:+0100
TZOFFSETTO:+0000
DTSTART:20251026T010000
TZNAME:GMT
END:STANDARD
END:VTIMEZONE
BEGIN:VEVENT
SUMMARY:Ungdómsmøti - Opið hús
DESCRIPTION:
URL;VALUE=URI:https://tabor.fo/events/ungdomsmoti-opid-hus/
UID:urn:uuid:dc2ccc40-d5a7-4da9-8f94-fad93c5640e8
STATUS:CONFIRMED
ORGANIZER:
DTSTAMP:20260421T183507Z
DTSTART;TZID=Europe/London:20251220T200000
DTEND;TZID=Europe/London:20251220T210000
END:VEVENT
END:VCALENDAR